Workbook

Sheet Submission Details
B2: QUARTERLY OUTPATIENT ACTIVITY RETURN (QOAR)
B4: Submission Information
B5: HSC Trust Name:
B7: Quarter Ending Date:
B9: Year:
B11: Reporting Period: | C11: =IF(C5="","Please complete details above.",IF(C7 = "", "'Quarter Ending Date' is empty", IF(C9 = "", "'Year' is empty", "01-"&IF(RIGHT(C7,3)="Jun","Apr",IF(RIGHT(C7,3)="Sep","Jul",IF(RIGHT(C7,3)="Dec","Oct",IF(RIGHT(C7,3)="Mar","Jan","Something went wrong"))))&"-"&C9&" to "& C7&"-"&C9))) -> Please complete details above.
B13: Before submission, please check that all of the fields above have been filled in and the reporting period shown above is correct.
B16: Notes
B17: 1. More detailed instructions on completion of this return can be found at the following link 'https://www.health-ni.gov.uk/publications/outpatient-activity-returns-and-guidance'.
B19: 2. If you have any queries regarding completion of this form, please contact Hospital Activity Information Branch.
B21: 3. Please return to: | C21: hib.returns@health-ni.gov.uk
C24: I certify that these data are correct | D24: =IF(C26="","Please complete details below",C26&", "&C28&", "&TEXT(G26,"dd/mm/yyyy")) -> Please complete details below
B26: Name: | F26: Date:
B28: Position Held: | F28: Telephone No:
B31: Any additional comments? | I31: STATUS
I32: =IF(SUM('Consultant Outpatient Activity'!C2:M108)>0,IF(COUNTIF('Consultant Outpatient Activity'!N2:P108,"FALSE")<>0,"Not ready to submit","Ready to submit"),"Not ready to submit") -> Not ready to submit
F44: Definitions
B45: Submission Totals | F45: 1 - Did not attend - includes patients that do not attend and do not give prior notice and patients who inform the hospital on the day of the scheduled appointment that they could not attend the appointment. Only applies if the patient has been made aware of the date and time of the appointment.
B46: New Seen | C46: =SUM('Consultant Outpatient Activity'!C:C) -> 0 | F46: 2 - Could not attend - includes patients who inform the hospital (before the day of the scheduled appointment) that they cannot attend their appointment.
B47: New DNA (incl CNA on day) | C47: =SUM('Consultant Outpatient Activity'!D:D) -> 0 | F47: 3 - Cancelled appointments - these relate to all appointments cancelled by the hospital.
B48: New CNA | C48: =SUM('Consultant Outpatient Activity'!E:E) -> 0 | F48: 4 - Cancelled following death of patient - this relates to all appointments cancelled as a result of the death of a patient.
B49: Review Seen | C49: =SUM('Consultant Outpatient Activity'!F:F) -> 0
B50: Review DNA (incl CNA on day) | C50: =SUM('Consultant Outpatient Activity'!G:G) -> 0
B51: Review CNA | C51: =SUM('Consultant Outpatient Activity'!H:H) -> 0
B52: Ward Attendances | C52: =SUM('Consultant Outpatient Activity'!I:I) -> 0
B53: New Cancelled by Hospital | C53: =SUM('Consultant Outpatient Activity'!J:J) -> 0
B54: Review Cancelled by Hospital | C54: =SUM('Consultant Outpatient Activity'!K:K) -> 0
B55: Cancelled following death of patient | C55: =SUM('Consultant Outpatient Activity'!L:L) -> 0
B56: Private Patient Attendances | C56: =SUM('Consultant Outpatient Activity'!M:M) -> 0

Sheet Consultant Outpatient Activity
A1: Main Specialty Function | B1: Specialty Code | C1: New Seen | D1: New DNA (incl CNA on day) | E1: New CNA | F1: Review Seen | G1: Review DNA (incl CNA on day) | H1: Review CNA | I1: Ward Attendances | J1: New Cancelled by Hospital | K1: Review Cancelled by Hospital | L1: Cancelled following death of patient | M1: Private Patient Attendances | N1: Specialty Cancellation Count Matches Reasons? | O1: CNA total matches Patient Cancellations? | P1: Hospital cancellations match reasons provided? | Q1: Comments
A2: Accident & Emergency | B2: 180 | N2: =E2+H2+J2+K2='Reason for Cancellation'!C2 -> TRUE | O2: =SUM(E2+H2)>=SUM('Reason for Cancellation'!N2:O2) -> TRUE | P2: =SUM(J2:K2)>=SUM('Reason for Cancellation'!D2:M2) -> TRUE
A3: Acute Medicine | B3: 326 | N3: =E3+H3+J3+K3='Reason for Cancellation'!C3 -> TRUE | O3: =SUM(E3+H3)>=SUM('Reason for Cancellation'!N3:O3) -> TRUE | P3: =SUM(J3:K3)>=SUM('Reason for Cancellation'!D3:M3) -> TRUE
A4: Adult Cystic Fibrosis | B4: 343 | N4: =E4+H4+J4+K4='Reason for Cancellation'!C4 -> TRUE | O4: =SUM(E4+H4)>=SUM('Reason for Cancellation'!N4:O4) -> TRUE | P4: =SUM(J4:K4)>=SUM('Reason for Cancellation'!D4:M4) -> TRUE
A5: Allergy | B5: 317 | N5: =E5+H5+J5+K5='Reason for Cancellation'!C5 -> TRUE | O5: =SUM(E5+H5)>=SUM('Reason for Cancellation'!N5:O5) -> TRUE | P5: =SUM(J5:K5)>=SUM('Reason for Cancellation'!D5:M5) -> TRUE
A6: Anaesthetics | B6: 190 | N6: =E6+H6+J6+K6='Reason for Cancellation'!C6 -> TRUE | O6: =SUM(E6+H6)>=SUM('Reason for Cancellation'!N6:O6) -> TRUE | P6: =SUM(J6:K6)>=SUM('Reason for Cancellation'!D6:M6) -> TRUE
A7: Antenatal Clinic | B7: 510 | N7: =E7+H7+J7+K7='Reason for Cancellation'!C7 -> TRUE | O7: =SUM(E7+H7)>=SUM('Reason for Cancellation'!N7:O7) -> TRUE | P7: =SUM(J7:K7)>=SUM('Reason for Cancellation'!D7:M7) -> TRUE
A8: Anticoagulant Service | B8: 324 | N8: =E8+H8+J8+K8='Reason for Cancellation'!C8 -> TRUE | O8: =SUM(E8+H8)>=SUM('Reason for Cancellation'!N8:O8) -> TRUE | P8: =SUM(J8:K8)>=SUM('Reason for Cancellation'!D8:M8) -> TRUE
A9: Blood Transfusion | B9: 821 | N9: =E9+H9+J9+K9='Reason for Cancellation'!C9 -> TRUE | O9: =SUM(E9+H9)>=SUM('Reason for Cancellation'!N9:O9) -> TRUE | P9: =SUM(J9:K9)>=SUM('Reason for Cancellation'!D9:M9) -> TRUE
A10: Breast Surgery | B10: 103 | N10: =E10+H10+J10+K10='Reason for Cancellation'!C10 -> TRUE | O10: =SUM(E10+H10)>=SUM('Reason for Cancellation'!N10:O10) -> TRUE | P10: =SUM(J10:K10)>=SUM('Reason for Cancellation'!D10:M10) -> TRUE
A11: Burns Care | B11: 161 | N11: =E11+H11+J11+K11='Reason for Cancellation'!C11 -> TRUE | O11: =SUM(E11+H11)>=SUM('Reason for Cancellation'!N11:O11) -> TRUE | P11: =SUM(J11:K11)>=SUM('Reason for Cancellation'!D11:M11) -> TRUE
A12: Cardiac Surgery | B12: 172 | N12: =E12+H12+J12+K12='Reason for Cancellation'!C12 -> TRUE | O12: =SUM(E12+H12)>=SUM('Reason for Cancellation'!N12:O12) -> TRUE | P12: =SUM(J12:K12)>=SUM('Reason for Cancellation'!D12:M12) -> TRUE
A13: Cardiology | B13: 320 | N13: =E13+H13+J13+K13='Reason for Cancellation'!C13 -> TRUE | O13: =SUM(E13+H13)>=SUM('Reason for Cancellation'!N13:O13) -> TRUE | P13: =SUM(J13:K13)>=SUM('Reason for Cancellation'!D13:M13) -> TRUE
... A108: Well Babies (Paediatrics) | B108: 550 | N108: =E108+H108+J108+K108='Reason for Cancellation'!C108 -> TRUE | O108: =SUM(E108+H108)>=SUM('Reason for Cancellation'!N108:O108) -> TRUE | P108: =SUM(J108:K108)>=SUM('Reason for Cancellation'!D108:M108) -> TRUE

Sheet Reason for Cancellation
A1: Main Specialty Function | B1: Specialty Code | C1: No of appointments cancelled by either Hospital or Patient | D1: HCON | E1: HMED | F1: HPTE | G1: HCCA | H1: HABF | I1: HAPB | J1: HCFV | K1: HADE | L1: HTNA | M1: HRBK | N1: PNLN | O1: PCSR | P1: PGPC | Q1: Reason for cancellation not recorded | R1: Incorrect reason for cancellation recorded | S1: Comments
A2: Accident & Emergency | B2: 180 | C2: =SUM(D2:R2) -> 0
A3: Acute Medicine | B3: 326 | C3: =SUM(D3:R3) -> 0
A4: Adult Cystic Fibrosis | B4: 343 | C4: =SUM(D4:R4) -> 0
A5: Allergy | B5: 317 | C5: =SUM(D5:R5) -> 0
A6: Anaesthetics | B6: 190 | C6: =SUM(D6:R6) -> 0
A7: Antenatal Clinic | B7: 510 | C7: =SUM(D7:R7) -> 0
A8: Anticoagulant Service | B8: 324 | C8: =SUM(D8:R8) -> 0
A9: Blood Transfusion | B9: 821 | C9: =SUM(D9:R9) -> 0
A10: Breast Surgery | B10: 103 | C10: =SUM(D10:R10) -> 0
A11: Burns Care | B11: 161 | C11: =SUM(D11:R11) -> 0
A12: Cardiac Surgery | B12: 172 | C12: =SUM(D12:R12) -> 0
A13: Cardiology | B13: 320 | C13: =SUM(D13:R13) -> 0
... A108: Well Babies (Paediatrics) | B108: 550 | C108: =SUM(D108:R108) -> 0
